BEGIN:VCALENDAR
VERSION:2.0
CALSCALE:GREGORIAN
PRODID:-//Diputació de Barcelona//DibaCMS//EN
BEGIN:VEVENT
UID:6252
DTSTAMP:20260422T015859
DTSTART:20130715T000000
DTEND:20140715T000000
SUMMARY:El PSC acusa l'equip de govern de no informar sobre una sentència contra l'Ajuntament
LOCATION:
METHOD:PUBLISH
X-WR-CALNAME:llagosta@llagosta.cat
X-WR-TIMEZONE:Europe/Madrid
DESCRIPTION:L'Agrupació del Partit dels Socialistes de Catalunya a la Llagosta acusa l'equip de govern municipal d'opacitat informativa. Segons el PSC, l'Ajuntament no ha donat a conèixer una sentència que considera improcedent l'acomiadament d'un treballador del Complex Esportiu Municipal El Turó.
URI:https://www.llagosta.cat/actualitat/noticies/el-psc-acusa-lequip-de-govern-de-no-informar-sobre-una-sentencia-contra-lajuntament.html
CLASS:PUBLIC
END:VEVENT
END:VCALENDAR
