BEGIN:VCALENDAR
VERSION:2.0
CALSCALE:GREGORIAN
PRODID:-//Diputació de Barcelona//DibaCMS//EN
BEGIN:VEVENT
UID:6251
DTSTAMP:20260421T122209
DTSTART:20130715T000000
DTEND:20140716T000000
SUMMARY:Instal·lat a la plaça d'Antoni Baqué un tòtem multimèdia amb informació institucional 
LOCATION:
METHOD:PUBLISH
X-WR-CALNAME:llagosta@llagosta.cat
X-WR-TIMEZONE:Europe/Madrid
DESCRIPTION:La plaça d'Antoni Baqué acull un tòtem multimèdia per dinamitzar comercialment el municipi i oferir a la ciutadania informació institucional i de serveis. L'Ajuntament de la Llagosta i l'empresa Miraelmón han arribat a un acord que permetrà la col·laboració entre ambdues parts per fer possible aquest nou espai d'informació ciutadana i de promoció publicitària del comerç llagostenc.
URI:https://www.llagosta.cat/actualitat/noticies/installat-a-la-placa-dantoni-baque-un-totem-multimedia-amb-informacio-institucional-.html
CLASS:PUBLIC
END:VEVENT
END:VCALENDAR
