BEGIN:VCALENDAR
VERSION:2.0
CALSCALE:GREGORIAN
PRODID:-//Diputació de Barcelona//DibaCMS//EN
BEGIN:VEVENT
UID:6249
DTSTAMP:20260423T223328
DTSTART:20130712T000000
DTEND:20140712T000000
SUMMARY:Unes 40 persones participen a les segones Passejades Mateu Bartalot
LOCATION:
METHOD:PUBLISH
X-WR-CALNAME:llagosta@llagosta.cat
X-WR-TIMEZONE:Europe/Madrid
DESCRIPTION:Unes 40 persones van assistir ahir a la tarda a les segones Passejades Mateu Bartalot. Un tomb per la història de la Llagosta. Les principals intervencions en cadascun dels racons visitats van anar a càrrec de José Luis López i de Joan Bartalot, però alguns dels participants també van fer les seves aportacions.
URI:https://www.llagosta.cat/actualitat/noticies/unes-40-persones-participen-a-les-segones-passejades-mateu-bartalot.html
CLASS:PUBLIC
END:VEVENT
END:VCALENDAR
