BEGIN:VCALENDAR
VERSION:2.0
CALSCALE:GREGORIAN
PRODID:-//Diputació de Barcelona//DibaCMS//EN
BEGIN:VEVENT
UID:6248
DTSTAMP:20260423T235748
DTSTART:20130712T000000
DTEND:20140712T000000
SUMMARY:El Procés Constituent es presenta demà en un acte a l'avingunda de l'Onze de Setembre
LOCATION:
METHOD:PUBLISH
X-WR-CALNAME:llagosta@llagosta.cat
X-WR-TIMEZONE:Europe/Madrid
DESCRIPTION:El passeig de l'avinguda de l'Onze de Setembre acollirà demà la presentació del Procés Constituent a la Llagosta, una nova plataforma ciutadana que planteja la necessitat de convocar una Assemblea Constituent a Catalunya. L'acte començarà a dos quarts de sis de la tarda.
URI:https://www.llagosta.cat/actualitat/noticies/el-proces-constituent-es-presenta-dema-en-un-acte-a-lavingunda-de-lonze-de-setembre.html
CLASS:PUBLIC
END:VEVENT
END:VCALENDAR
