BEGIN:VCALENDAR
VERSION:2.0
CALSCALE:GREGORIAN
PRODID:-//Diputació de Barcelona//DibaCMS//EN
BEGIN:VEVENT
UID:6246
DTSTAMP:20260424T073053
DTSTART:20130712T000000
DTEND:20140712T000000
SUMMARY:Una fuita d'aigua produeix un esfondrament de la calçada al carrer del Montseny
LOCATION:
METHOD:PUBLISH
X-WR-CALNAME:llagosta@llagosta.cat
X-WR-TIMEZONE:Europe/Madrid
DESCRIPTION:El trencament d'una canonada d'aigua ha causat aquesta matinada l'esfondrament parcial de la calçada del carrer del Montseny, entre els carrers de Girona i Barcelona, al polígon industrial de la Llagosta. La Policia Local ha estat alertada cap a les 3.15 hores per un treballador de l'empresa Hebron a causa de la gran quantitat d'aigua que baixava pel carrer en direcció a la riera Seca.
URI:https://www.llagosta.cat/actualitat/noticies/una-fuita-daigua-produeix-un-esfondrament-de-la-calcada-al-carrer-del-montseny.html
CLASS:PUBLIC
END:VEVENT
END:VCALENDAR
