BEGIN:VCALENDAR
VERSION:2.0
CALSCALE:GREGORIAN
PRODID:-//Diputació de Barcelona//DibaCMS//EN
BEGIN:VEVENT
UID:6240
DTSTAMP:20260424T015824
DTSTART:20130710T000000
DTEND:20140713T000000
SUMMARY:L'Engrescada reuneix demà per primera vegada les dues colles de joves, Volats i Saltats
LOCATION:
METHOD:PUBLISH
X-WR-CALNAME:llagosta@llagosta.cat
X-WR-TIMEZONE:Europe/Madrid
DESCRIPTION:Els membres de les colles dels Volats i els Saltats es reuniran demà per conèixer quina serà la dinàmica de les activitats de l'Engrescada que és farà durant la Festa Major. La trobada es farà a les 20.30 h al Centre Cultural.
URI:https://www.llagosta.cat/actualitat/noticies/lengrescada-reuneix-dema-per-primera-vegada-les-dues-colles-de-joves-volats-i-saltats.html
CLASS:PUBLIC
END:VEVENT
END:VCALENDAR
