BEGIN:VCALENDAR
VERSION:2.0
CALSCALE:GREGORIAN
PRODID:-//Diputació de Barcelona//DibaCMS//EN
BEGIN:VEVENT
UID:6237
DTSTAMP:20260422T200244
DTSTART:20130709T000000
DTEND:20140709T000000
SUMMARY:El Joventut Handbol la Llagosta comptarà la propera temporada amb més equips
LOCATION:
METHOD:PUBLISH
X-WR-CALNAME:llagosta@llagosta.cat
X-WR-TIMEZONE:Europe/Madrid
DESCRIPTION:El Joventut Handbol la Llagosta tindrà la propera temporada tres equips nous, un sènior femení, un cadet femení i un infantil masculí. A més, l'entitat està treballant per poder comptar també amb un cadet masculí.
URI:https://www.llagosta.cat/actualitat/noticies/el-joventut-handbol-la-llagosta-comptara-la-propera-temporada-amb-mes-equips.html
CLASS:PUBLIC
END:VEVENT
END:VCALENDAR
