BEGIN:VCALENDAR
VERSION:2.0
CALSCALE:GREGORIAN
PRODID:-//Diputació de Barcelona//DibaCMS//EN
BEGIN:VEVENT
UID:6236
DTSTAMP:20260423T124423
DTSTART:20130709T000000
DTEND:20140709T000000
SUMMARY:L'Ajuntament organitza un taller pràctica sobre esport i alimentació a l'estiu
LOCATION:
METHOD:PUBLISH
X-WR-CALNAME:llagosta@llagosta.cat
X-WR-TIMEZONE:Europe/Madrid
DESCRIPTION:L'Ajuntament de la Llagosta organitza un taller pràctic d'esport, estiu i alimentació, que anirà a càrrec del tècnic municipal de Salut Pública, Lluís Julian, que és especialista en Medicina Preventiva i Salut Pública. L'activitat va adreçada a qualsevol persona que faci esport o que tingui intenció de començar a fer-ne.
URI:https://www.llagosta.cat/actualitat/noticies/lajuntament-organitza-un-taller-practica-sobre-esport-i-alimentacio-a-lestiu.html
CLASS:PUBLIC
END:VEVENT
END:VCALENDAR
