BEGIN:VCALENDAR
VERSION:2.0
CALSCALE:GREGORIAN
PRODID:-//Diputació de Barcelona//DibaCMS//EN
BEGIN:VEVENT
UID:6235
DTSTAMP:20260421T173241
DTSTART:20130709T000000
DTEND:20140709T000000
SUMMARY:Demà, passejada per conèixer els carrers i places de la Llagosta amb nom de dona
LOCATION:
METHOD:PUBLISH
X-WR-CALNAME:llagosta@llagosta.cat
X-WR-TIMEZONE:Europe/Madrid
DESCRIPTION:En el marc de la programació Estiu 2013, demà dimecres es portarà a terme una proposta que porta per nom Vols descobrir les dones que donen nom als carrers i places de la Llagosta? L'activitat començarà a les vuit de la tarda i es farà un recorregut pels espais de la nostra població amb nom de dona. 
URI:https://www.llagosta.cat/actualitat/noticies/dema-passejada-per-coneixer-els-carrers-i-places-de-la-llagosta-amb-nom-de-dona.html
CLASS:PUBLIC
END:VEVENT
END:VCALENDAR
