BEGIN:VCALENDAR
VERSION:2.0
CALSCALE:GREGORIAN
PRODID:-//Diputació de Barcelona//DibaCMS//EN
BEGIN:VEVENT
UID:6234
DTSTAMP:20260422T015528
DTSTART:20130708T000000
DTEND:20140708T000000
SUMMARY:La setzena festa en honor a Santiago Apòstol atrau força gent al Parc Popular
LOCATION:
METHOD:PUBLISH
X-WR-CALNAME:llagosta@llagosta.cat
X-WR-TIMEZONE:Europe/Madrid
DESCRIPTION:L’Agrupación Cultural Galega Alborada ha celebrat durant els darrers tres dies la setzena festa en honor a Santiago Apòstol. Els actes van començar divendres a la tarda amb la tradicional cercavila i van finalitzar la nit de diumenge amb el castell de focs artificials.
URI:https://www.llagosta.cat/actualitat/noticies/la-setzena-festa-en-honor-a-santiago-apostol-atrau-forca-gent-al-parc-popular.html
CLASS:PUBLIC
END:VEVENT
END:VCALENDAR
