BEGIN:VCALENDAR
VERSION:2.0
CALSCALE:GREGORIAN
PRODID:-//Diputació de Barcelona//DibaCMS//EN
BEGIN:VEVENT
UID:6233
DTSTAMP:20260421T104552
DTSTART:20130708T000000
DTEND:20140708T000000
SUMMARY:BVG Advocats guanya el torneig de 24 hores organitzat pel Fútbol Sala Unión Llagostense
LOCATION:
METHOD:PUBLISH
X-WR-CALNAME:llagosta@llagosta.cat
X-WR-TIMEZONE:Europe/Madrid
DESCRIPTION:El conjunt BVG Advocats de la Llagosta ha estat el guanyador del torneig de 24 hores de futbol sala que va organitzar el cap de setmana el Fútbol Sala Unión Llagostense al Poliesportiu Antonio García Robledo. L'equip llagostenc es va imposar per 3 a 1 al Land-Fix en la final disputada ahir. 
URI:https://www.llagosta.cat/actualitat/noticies/bvg-advocats-guanya-el-torneig-de-24-hores-organitzat-pel-futbol-sala-union-llagostense.html
CLASS:PUBLIC
END:VEVENT
END:VCALENDAR
