BEGIN:VCALENDAR
VERSION:2.0
CALSCALE:GREGORIAN
PRODID:-//Diputació de Barcelona//DibaCMS//EN
BEGIN:VEVENT
UID:6232
DTSTAMP:20260422T204217
DTSTART:20130705T000000
DTEND:20140705T000000
SUMMARY:El Casa Popular la República farà aquest dissabte un acte solidari antirepresiu
LOCATION:
METHOD:PUBLISH
X-WR-CALNAME:llagosta@llagosta.cat
X-WR-TIMEZONE:Europe/Madrid
DESCRIPTION:El Casal Popular la República organitza demà un acte solidari amb els cinc anarquistes detinguts el passat 15 de maig a Sabadell. Sota el nom de Concert solidari antirepresiu, els organitzadors volen donar suport als joves que continuen en presó per ordre de l'Audiència Nacional.
URI:https://www.llagosta.cat/actualitat/noticies/el-casa-popular-la-republica-fara-aquest-dissabte-un-acte-solidari-antirepresiu.html
CLASS:PUBLIC
END:VEVENT
END:VCALENDAR
