BEGIN:VCALENDAR
VERSION:2.0
CALSCALE:GREGORIAN
PRODID:-//Diputació de Barcelona//DibaCMS//EN
BEGIN:VEVENT
UID:6231
DTSTAMP:20260421T122933
DTSTART:20130705T000000
DTEND:20140705T000000
SUMMARY:Durant la neteja del riu Besòs d'ahir es van omplir unes 20 bosses amb deixalles
LOCATION:
METHOD:PUBLISH
X-WR-CALNAME:llagosta@llagosta.cat
X-WR-TIMEZONE:Europe/Madrid
DESCRIPTION:La Regidoria de Medi Ambient de l'Ajuntament de la Llagosta ha fet un balanç molt positiu de la jornada Fem dissabte! Neteja del riu Besòs, que es va celebrar ahir. Més de setanta persones van participar en aquesta activitat, entre elles els nens i joves del campus esportiu organitzat pel Complex Esportiu Municipal El Turó i del casal de l'Esplai Dijoc.
URI:https://www.llagosta.cat/actualitat/noticies/durant-la-neteja-del-riu-besos-dahir-es-van-omplir-unes-20-bosses-amb-deixalles.html
CLASS:PUBLIC
END:VEVENT
END:VCALENDAR
