BEGIN:VCALENDAR
VERSION:2.0
CALSCALE:GREGORIAN
PRODID:-//Diputació de Barcelona//DibaCMS//EN
BEGIN:VEVENT
UID:6230
DTSTAMP:20260421T131930
DTSTART:20130705T000000
DTEND:20140705T000000
SUMMARY:La Llagosta + Activa organitza un nou concert solidari el 14 de juliol
LOCATION:
METHOD:PUBLISH
X-WR-CALNAME:llagosta@llagosta.cat
X-WR-TIMEZONE:Europe/Madrid
DESCRIPTION:La Llagosta + Activa ha posat a la venda els tiquets per assistir a un nou concert solidari. El recital tindrà lloc el 14 de juliol i estarà protagonitzat per l'artista local Ruth Garlet. 
URI:https://www.llagosta.cat/actualitat/noticies/la-llagosta--activa-organitza-un-nou-concert-solidari-el-14-de-juliol.html
CLASS:PUBLIC
END:VEVENT
END:VCALENDAR
