BEGIN:VCALENDAR
VERSION:2.0
CALSCALE:GREGORIAN
PRODID:-//Diputació de Barcelona//DibaCMS//EN
BEGIN:VEVENT
UID:6229
DTSTAMP:20260422T165547
DTSTART:20130705T000000
DTEND:20140705T000000
SUMMARY:Aquest cap de setmana es disputa el torneig de 24 hores del FS Unión Llagostense
LOCATION:
METHOD:PUBLISH
X-WR-CALNAME:llagosta@llagosta.cat
X-WR-TIMEZONE:Europe/Madrid
DESCRIPTION:Un total de 16 equips participaran en el torneig de 24 hores de futbol sala que organitzarà aquest cap de setmana el Fútbol Sala Unión Llagostense al Poliesportiu Antonio García Robledo. La competició començarà demà a les nou del matí i acabarà amb la final, que es disputarà diumenge a partir de la una del migdia.
URI:https://www.llagosta.cat/actualitat/noticies/aquest-cap-de-setmana-es-disputa-el-torneig-de-24-hores-del-fs-union-llagostense.html
CLASS:PUBLIC
END:VEVENT
END:VCALENDAR
