BEGIN:VCALENDAR
VERSION:2.0
CALSCALE:GREGORIAN
PRODID:-//Diputació de Barcelona//DibaCMS//EN
BEGIN:VEVENT
UID:6228
DTSTAMP:20260422T075753
DTSTART:20130705T000000
DTEND:20140705T000000
SUMMARY:Avui surt al carrer el número 2 del 08CENTVINT, l'Informatiu de la Llagosta
LOCATION:
METHOD:PUBLISH
X-WR-CALNAME:llagosta@llagosta.cat
X-WR-TIMEZONE:Europe/Madrid
DESCRIPTION:L'Ajuntament de la Llagosta distribueix avui el número 2 del 08CENTVINT, que recull en portada que la reformada plaça de la Concòrdia ja està oberta. En aquesta ocasió, el protagonista de l'entrevista és el nostre campió del món, Antonio García Robledo.
URI:https://www.llagosta.cat/actualitat/noticies/avui-surt-al-carrer-el-numero-2-del-08centvint-linformatiu-de-la-llagosta.html
CLASS:PUBLIC
END:VEVENT
END:VCALENDAR
