BEGIN:VCALENDAR
VERSION:2.0
CALSCALE:GREGORIAN
PRODID:-//Diputació de Barcelona//DibaCMS//EN
BEGIN:VEVENT
UID:6227
DTSTAMP:20260422T235424
DTSTART:20130704T000000
DTEND:20140704T000000
SUMMARY:El grup la Murga protagonitzarà el pregó de la Festa Major 2013 de la Llagosta
LOCATION:
METHOD:PUBLISH
X-WR-CALNAME:llagosta@llagosta.cat
X-WR-TIMEZONE:Europe/Madrid
DESCRIPTION:Els membres de la Murga seran els encarregats de fer aquest any el pregó de la Festa Major de la Llagosta. L'Ajuntament vol reconèixer així la tasca d'aquest grup, que porta 28 anys animant la festa gran de la nostra localitat.
URI:https://www.llagosta.cat/actualitat/noticies/el-grup-la-murga-protagonitzara-el-prego-de-la-festa-major-2013-de-la-llagosta.html
CLASS:PUBLIC
END:VEVENT
END:VCALENDAR
