BEGIN:VCALENDAR
VERSION:2.0
CALSCALE:GREGORIAN
PRODID:-//Diputació de Barcelona//DibaCMS//EN
BEGIN:VEVENT
UID:6226
DTSTAMP:20260421T172812
DTSTART:20130704T000000
DTEND:20140704T000000
SUMMARY:Animalets munta una exposició fotogràfica per recaptar diners per a les seves activitats
LOCATION:
METHOD:PUBLISH
X-WR-CALNAME:llagosta@llagosta.cat
X-WR-TIMEZONE:Europe/Madrid
DESCRIPTION:L'Associació Protectora d'Animals i Plantes de la Llagosta, Animalets, muntarà entre demà i el 30 de juliol una exposició fotogràfica al Centre Cultural. Les imatges han estat realitzades i donades a l'entitat per Jaume Bonallach.
URI:https://www.llagosta.cat/actualitat/noticies/animalets-munta-una-exposicio-fotografica-per-recaptar-diners-per-a-les-seves-activitats.html
CLASS:PUBLIC
END:VEVENT
END:VCALENDAR
