BEGIN:VCALENDAR
VERSION:2.0
CALSCALE:GREGORIAN
PRODID:-//Diputació de Barcelona//DibaCMS//EN
BEGIN:VEVENT
UID:6225
DTSTAMP:20260422T021832
DTSTART:20130704T000000
DTEND:20140704T000000
SUMMARY:El Parc Popular serà la seu el cap de setmana de la festa en honor a Santiago Apòstol
LOCATION:
METHOD:PUBLISH
X-WR-CALNAME:llagosta@llagosta.cat
X-WR-TIMEZONE:Europe/Madrid
DESCRIPTION:L’Agrupación Cultural Galega Alborada celebrarà a partir de demà i durant tot el cap de setmana la setzena festa en honor a Santiago Apòstol. Els actes es desenvoluparan al Parc Popular.
URI:https://www.llagosta.cat/actualitat/noticies/el-parc-popular-sera-la-seu-el-cap-de-setmana-de-la-festa-en-honor-a-santiago-apostol.html
CLASS:PUBLIC
END:VEVENT
END:VCALENDAR
