BEGIN:VCALENDAR
VERSION:2.0
CALSCALE:GREGORIAN
PRODID:-//Diputació de Barcelona//DibaCMS//EN
BEGIN:VEVENT
UID:6224
DTSTAMP:20260422T125718
DTSTART:20130703T000000
DTEND:20140703T000000
SUMMARY:Antonio García Robledo agraeix que un poliesportiu de la Llagosta porti el seu nom
LOCATION:
METHOD:PUBLISH
X-WR-CALNAME:llagosta@llagosta.cat
X-WR-TIMEZONE:Europe/Madrid
DESCRIPTION:Un bon nombre de persones van acompanyar ahir Antonio García Robledo durant l'acte de canvi de nom del Poliesportiu Riera Seca, que ha passat a portar el nom de l'esportista llagostenc, campió del món d'handbol amb la selecció espanyola.
URI:https://www.llagosta.cat/actualitat/noticies/antonio-garcia-robledo-agraeix-que-un-poliesportiu-de-la-llagosta-porti-el-seu-nom.html
CLASS:PUBLIC
END:VEVENT
END:VCALENDAR
