BEGIN:VCALENDAR
VERSION:2.0
CALSCALE:GREGORIAN
PRODID:-//Diputació de Barcelona//DibaCMS//EN
BEGIN:VEVENT
UID:6223
DTSTAMP:20260421T185717
DTSTART:20130703T000000
DTEND:20140703T000000
SUMMARY:El Consistori subvenciona les activitats socials de les entitats locals Rems i Aspayfacos
LOCATION:
METHOD:PUBLISH
X-WR-CALNAME:llagosta@llagosta.cat
X-WR-TIMEZONE:Europe/Madrid
DESCRIPTION:L'Ajuntament de la Llagosta ha signat els convenis de col·laboració amb les entitats locals Rems i Aspayfacos, que treballen en l'àmbit del voluntariat social i l'atenció a les persones discapacitades. L’associació de voluntariat Rems es compromet a desenvolupar projectes socials i a destinar l’aportació econòmica municipal a gestionar el banc de préstec de petits ajuts tècnics, i a gestionar el Banc d'aliments de la Llagosta; a fer l'acompanyament dels escolars per a vacunacions i la campanya de revisions dentals, i a tallers sobre igualtat, entre altres accions. 
URI:https://www.llagosta.cat/actualitat/noticies/el-consistori-subvenciona-les-activitats-socials-de-les-entitats-locals-rems-i-aspayfacos.html
CLASS:PUBLIC
END:VEVENT
END:VCALENDAR
