BEGIN:VCALENDAR
VERSION:2.0
CALSCALE:GREGORIAN
PRODID:-//Diputació de Barcelona//DibaCMS//EN
BEGIN:VEVENT
UID:6222
DTSTAMP:20260421T234419
DTSTART:20130703T000000
DTEND:20140703T000000
SUMMARY:L'Ajuntament de la Llagosta organitza demà una neteja d'un tram del riu Besòs
LOCATION:
METHOD:PUBLISH
X-WR-CALNAME:llagosta@llagosta.cat
X-WR-TIMEZONE:Europe/Madrid
DESCRIPTION:Unes 70 persones s'han inscrit per participar demà en la jornada Fem dissabte! Neteja del riu Besòs, que organitzen l'Ajuntament de la Llagosta i l'Associació Hàbitats. L'activitat, prevista inicialment per al 8 de juny, va ser suspesa per la pluja.
URI:https://www.llagosta.cat/actualitat/noticies/lajuntament-de-la-llagosta-organitza-dema-una-neteja-dun-tram-del-riu-besos.html
CLASS:PUBLIC
END:VEVENT
END:VCALENDAR
