BEGIN:VCALENDAR
VERSION:2.0
CALSCALE:GREGORIAN
PRODID:-//Diputació de Barcelona//DibaCMS//EN
BEGIN:VEVENT
UID:6221
DTSTAMP:20260421T204620
DTSTART:20130703T000000
DTEND:20140703T000000
SUMMARY:Demà, concert a la fresca de Versonats a la plaça de Cinto Pagès a partir de les vuit de la tarda
LOCATION:
METHOD:PUBLISH
X-WR-CALNAME:llagosta@llagosta.cat
X-WR-TIMEZONE:Europe/Madrid
DESCRIPTION:La Llagosta + Activa organitzarà aquest dijous un nou concert a la fresca de la programació Estiu 2013. En aquesta ocasió, actuaran Versonats. L'espectacle se celebrarà a la plaça de Cinto Pagès entre les vuit i dos quarts de deu del vespre.
URI:https://www.llagosta.cat/actualitat/noticies/dema-concert-a-la-fresca-de-versonats-a-la-placa-de-cinto-pages-a-partir-de-les-vuit-de-la-tarda.html
CLASS:PUBLIC
END:VEVENT
END:VCALENDAR
