BEGIN:VCALENDAR
VERSION:2.0
CALSCALE:GREGORIAN
PRODID:-//Diputació de Barcelona//DibaCMS//EN
BEGIN:VEVENT
UID:6220
DTSTAMP:20260419T145422
DTSTART:20130702T000000
DTEND:20140702T000000
SUMMARY:Nou impuls de les activitats i tallers del Casal d'Avis amb la signatura d'un nou conveni 
LOCATION:
METHOD:PUBLISH
X-WR-CALNAME:llagosta@llagosta.cat
X-WR-TIMEZONE:Europe/Madrid
DESCRIPTION:L'Ajuntament i l'Agrupación de Jubilados y Pensionistas de la Llagosta han renovat el conveni de col·laboració que permet el desenvolupament de les activitats que l'entitat organitza al Casal d'avis. Com a principal novetat del conveni d'enguany destaca que l'Ajuntament assumeix, mitjançant l'empresa Esport 3, la gestió dels tallers que es fan al Casal d'avis.
URI:https://www.llagosta.cat/actualitat/noticies/nou-impuls-de-les-activitats-i-tallers-del-casal-davis-amb-la-signatura-dun-nou-conveni-.html
CLASS:PUBLIC
END:VEVENT
END:VCALENDAR
