BEGIN:VCALENDAR
VERSION:2.0
CALSCALE:GREGORIAN
PRODID:-//Diputació de Barcelona//DibaCMS//EN
BEGIN:VEVENT
UID:6219
DTSTAMP:20260421T223659
DTSTART:20130702T000000
DTEND:20140702T000000
SUMMARY:La Casa de Andalucía ha tornat a França per actuar en una festa rociera
LOCATION:
METHOD:PUBLISH
X-WR-CALNAME:llagosta@llagosta.cat
X-WR-TIMEZONE:Europe/Madrid
DESCRIPTION:La Casa de Andalucía de la Llagosta ha viatjat aquest cap de setmana a França. L'entitat de la nostra localitat ha visitat la localitat de Beaucaire, a prop de Nimes, convidada pel centre andalús Tatafaina, per celebrar una festa rociera.
URI:https://www.llagosta.cat/actualitat/noticies/la-casa-de-andalucia-ha-tornat-a-franca-per-actuar-en-una-festa-rociera.html
CLASS:PUBLIC
END:VEVENT
END:VCALENDAR
