BEGIN:VCALENDAR
VERSION:2.0
CALSCALE:GREGORIAN
PRODID:-//Diputació de Barcelona//DibaCMS//EN
BEGIN:VEVENT
UID:6218
DTSTAMP:20260422T015715
DTSTART:20130702T000000
DTEND:20140702T000000
SUMMARY:L'Ajuntament convoca demà una reunió amb les entitats per parlar sobre la Festa Major
LOCATION:
METHOD:PUBLISH
X-WR-CALNAME:llagosta@llagosta.cat
X-WR-TIMEZONE:Europe/Madrid
DESCRIPTION:L'Ajuntament de la Llagosta ha convocat demà a les entitats de la nostra localitat a una reunió per parlar sobre la programació de la Festa Major, que se celebrarà entre el 6 i el 9 de setembre. La trobada tindrà lloc a partir de les 19.30 hores a la sala de plens del Consistori llagostenc. 
URI:https://www.llagosta.cat/actualitat/noticies/lajuntament-convoca-dema-una-reunio-amb-les-entitats-per-parlar-sobre-la-festa-major.html
CLASS:PUBLIC
END:VEVENT
END:VCALENDAR
