BEGIN:VCALENDAR
VERSION:2.0
CALSCALE:GREGORIAN
PRODID:-//Diputació de Barcelona//DibaCMS//EN
BEGIN:VEVENT
UID:6217
DTSTAMP:20260421T104906
DTSTART:20130702T000000
DTEND:20140702T000000
SUMMARY:L'Ajuntament fa l'últim pagament al Consorci Teledigital Mollet i es desvincula d'aquest ens
LOCATION:
METHOD:PUBLISH
X-WR-CALNAME:llagosta@llagosta.cat
X-WR-TIMEZONE:Europe/Madrid
DESCRIPTION:L'Ajuntament de la Llagosta ha fet efectiu l'últim i definitiu pagament al Consorci Teledigital Mollet, per import de 62.000 euros, després que el Ple municipal acordés a finals de 2012 deixar de pertànyer a aquest ens. La quantitat correspon a la part proporcional del rènting dels equips tècnics de la televisió local Vallès Visió i a les quotes del mesos de gener i febrer de 2013.
URI:https://www.llagosta.cat/actualitat/noticies/lajuntament-fa-lultim-pagament-al-consorci-teledigital-mollet-i-es-desvincula-daquest-ens.html
CLASS:PUBLIC
END:VEVENT
END:VCALENDAR
