BEGIN:VCALENDAR
VERSION:2.0
CALSCALE:GREGORIAN
PRODID:-//Diputació de Barcelona//DibaCMS//EN
BEGIN:VEVENT
UID:6213
DTSTAMP:20260422T060030
DTSTART:20130628T000000
DTEND:20140619T000000
SUMMARY:Demà, retrobament d'exjugadors de futbol sala al Poliesportiu Riera Seca
LOCATION:
METHOD:PUBLISH
X-WR-CALNAME:llagosta@llagosta.cat
X-WR-TIMEZONE:Europe/Madrid
DESCRIPTION:El Fútbol Sala Unión Llagostense organitzarà demà un retrobament d'exjugadors de futbol sala. En concret, entre 25 i 30 exjugadors dels equips de Mainsa, Iniciativa i AMPA del Joan Maragall es donaran cita al Poliesportiu Antonio García Robledo per disputar uns partits d'exhibició. L'activitat començarà a les deu del matí i forma part de la programació de l'Estiu 2013.
URI:https://www.llagosta.cat/actualitat/noticies/dema-retrobament-dexjugadors-de-futbol-sala-al-poliesportiu-riera-seca.html
CLASS:PUBLIC
END:VEVENT
END:VCALENDAR
