BEGIN:VCALENDAR
VERSION:2.0
CALSCALE:GREGORIAN
PRODID:-//Diputació de Barcelona//DibaCMS//EN
BEGIN:VEVENT
UID:6212
DTSTAMP:20260421T222709
DTSTART:20130628T000000
DTEND:20140628T000000
SUMMARY:El Casal Popular la República farà una xerrada sobre els processos constituents americans
LOCATION:
METHOD:PUBLISH
X-WR-CALNAME:llagosta@llagosta.cat
X-WR-TIMEZONE:Europe/Madrid
DESCRIPTION:El Casal Popular la República organitza aquest dissabte una xerrada conversatori sobre Els processos constituents a l'Amèrica Llatina, que podem aprendre d'ells. L'acte es farà a la seva seu, a partir de les 19 h.
URI:https://www.llagosta.cat/actualitat/noticies/el-casal-popular-la-republica-fara-una-xerrada-sobre-els-processos-constituents-americans.html
CLASS:PUBLIC
END:VEVENT
END:VCALENDAR
