BEGIN:VCALENDAR
VERSION:2.0
CALSCALE:GREGORIAN
PRODID:-//Diputació de Barcelona//DibaCMS//EN
BEGIN:VEVENT
UID:6210
DTSTAMP:20260421T172919
DTSTART:20130628T000000
DTEND:20140628T000000
SUMMARY:La Coral Miranda tancarà aquest disabte la temporada amb un concert al Centre Cultural
LOCATION:
METHOD:PUBLISH
X-WR-CALNAME:llagosta@llagosta.cat
X-WR-TIMEZONE:Europe/Madrid
DESCRIPTION:La Coral Miranda de la Llagosta celebrarà demà el concert de fi de temporada. El recital començarà a les 20 h i tindrà lloc al Centre Cultural de la plaça de l'alcalde Sisó Pons.
URI:https://www.llagosta.cat/actualitat/noticies/la-coral-miranda-tancara-aquest-disabte-la-temporada-amb-un-concert-al-centre-cultural.html
CLASS:PUBLIC
END:VEVENT
END:VCALENDAR
