BEGIN:VCALENDAR
VERSION:2.0
CALSCALE:GREGORIAN
PRODID:-//Diputació de Barcelona//DibaCMS//EN
BEGIN:VEVENT
UID:6206
DTSTAMP:20260424T021830
DTSTART:20130627T000000
DTEND:20140627T000000
SUMMARY:El ple aprovarà avui anomenar Antonio García Robledo al Poliesportiu Riera Seca
LOCATION:
METHOD:PUBLISH
X-WR-CALNAME:llagosta@llagosta.cat
X-WR-TIMEZONE:Europe/Madrid
DESCRIPTION:El ple de l'Ajuntament de la Llagosta aprovarà avui el canvi de denominació del Poliesportiu Riera Seca, que passarà a dir-se Poliesportiu Antonio J. García  Robledo. Aquest serà el principal punt de l'ordre del dia de la sessió plenària ordinària del mes de juny.
URI:https://www.llagosta.cat/actualitat/noticies/el-ple-aprovara-avui-anomenar-antonio-garcia-robledo-al-poliesportiu-riera-seca.html
CLASS:PUBLIC
END:VEVENT
END:VCALENDAR
