BEGIN:VCALENDAR
VERSION:2.0
CALSCALE:GREGORIAN
PRODID:-//Diputació de Barcelona//DibaCMS//EN
BEGIN:VEVENT
UID:6205
DTSTAMP:20260421T204655
DTSTART:20130626T000000
DTEND:20140626T000000
SUMMARY:La Llagosta ja té cartell per a la propera Festa Major, obra de José Luis Ontiveros
LOCATION:
METHOD:PUBLISH
X-WR-CALNAME:llagosta@llagosta.cat
X-WR-TIMEZONE:Europe/Madrid
DESCRIPTION:José Luis Ontiveros, veí de Montcada i Reixac, ha estat el guanyador del Concurs de cartells de la Festa Major 2013 de la Llagosta. El resultat de les votacions populars es va donar a conèixer ahir a la tarda en un acte que va presidir l'alcalde, Alberto López, a la sala de plens de l'Ajuntament.
URI:https://www.llagosta.cat/actualitat/noticies/la-llagosta-ja-te-cartell-per-a-la-propera-festa-major-obra-de-jose-luis-ontiveros.html
CLASS:PUBLIC
END:VEVENT
END:VCALENDAR
