BEGIN:VCALENDAR
VERSION:2.0
CALSCALE:GREGORIAN
PRODID:-//Diputació de Barcelona//DibaCMS//EN
BEGIN:VEVENT
UID:6204
DTSTAMP:20260421T190656
DTSTART:20130625T000000
DTEND:20140625T000000
SUMMARY:Revetlla de Sant Joan tranquil·la a la Llagosta
LOCATION:
METHOD:PUBLISH
X-WR-CALNAME:llagosta@llagosta.cat
X-WR-TIMEZONE:Europe/Madrid
DESCRIPTION:La revetlla de Sant Joan es va desenvolupar amb molta tranquil·litat a la Llagosta. Tant la Policia Local com Protecció Civil no tenen constància de cap incident a la nostra localitat.
URI:https://www.llagosta.cat/actualitat/noticies/revetlla-de-sant-joan-tranquilla-a-la-llagosta.html
CLASS:PUBLIC
END:VEVENT
END:VCALENDAR
