BEGIN:VCALENDAR
VERSION:2.0
CALSCALE:GREGORIAN
PRODID:-//Diputació de Barcelona//DibaCMS//EN
BEGIN:VEVENT
UID:6203
DTSTAMP:20260422T144014
DTSTART:20130625T000000
DTEND:20140625T000000
SUMMARY:Oberta la inscripció per participar dissabte en una jornada de participació ciutadana
LOCATION:
METHOD:PUBLISH
X-WR-CALNAME:llagosta@llagosta.cat
X-WR-TIMEZONE:Europe/Madrid
DESCRIPTION:L'Ajuntament de la Llagosta organitzarà dissabte una jornada de participació ciutadana entre les deu del matí i la una del migdia al Centre Cultural. Els interessats a prendre-hi part s'han d'inscriure a l'Oficina d'Atenció a la Ciutadania o al Centre Cultural i Juvenil Can Pelegrí.
URI:https://www.llagosta.cat/actualitat/noticies/oberta-la-inscripcio-per-participar-dissabte-en-una-jornada-de-participacio-ciutadana.html
CLASS:PUBLIC
END:VEVENT
END:VCALENDAR
