BEGIN:VCALENDAR
VERSION:2.0
CALSCALE:GREGORIAN
PRODID:-//Diputació de Barcelona//DibaCMS//EN
BEGIN:VEVENT
UID:6201
DTSTAMP:20260421T120358
DTSTART:20130621T000000
DTEND:20140621T000000
SUMMARY:La Llagosta Brava i la Casa de Andalucía organitzaran revetlles per Sant Joan
LOCATION:
METHOD:PUBLISH
X-WR-CALNAME:llagosta@llagosta.cat
X-WR-TIMEZONE:Europe/Madrid
DESCRIPTION:Dues entitats, la Llagosta Brava i la Casa de Andalucía, organitzaran diumenge revetlles de Sant Joan a la nostra localitat. La Llagosta Brava muntarà una sessió de DJ entre les deu del vespre i les tres de la matinada al passeig del Pintor Sert, mentre que la Casa de Andalucía farà una festa al costat del Centre Cultural de la plaça de l'Alcalde Sisó Pons. 
URI:https://www.llagosta.cat/actualitat/noticies/la-llagosta-brava-i-la-casa-de-andalucia-organitzaran-revetlles-per-sant-joan.html
CLASS:PUBLIC
END:VEVENT
END:VCALENDAR
