BEGIN:VCALENDAR
VERSION:2.0
CALSCALE:GREGORIAN
PRODID:-//Diputació de Barcelona//DibaCMS//EN
BEGIN:VEVENT
UID:6200
DTSTAMP:20260423T013453
DTSTART:20130621T000000
DTEND:20140621T000000
SUMMARY:La Casa de Andalucía organitza demà la darrera activitat pública de la temporada
LOCATION:
METHOD:PUBLISH
X-WR-CALNAME:llagosta@llagosta.cat
X-WR-TIMEZONE:Europe/Madrid
DESCRIPTION:La Casa de Andalucía de la Llagosta celebra aquest dissabte el final de curs de les classes de guitarra i de ball. L'acte es farà al Centre Cultural a partir de les 18.30 h.
URI:https://www.llagosta.cat/actualitat/noticies/la-casa-de-andalucia-organitza-dema-la-darrera-activitat-publica-de-la-temporada.html
CLASS:PUBLIC
END:VEVENT
END:VCALENDAR
