BEGIN:VCALENDAR
VERSION:2.0
CALSCALE:GREGORIAN
PRODID:-//Diputació de Barcelona//DibaCMS//EN
BEGIN:VEVENT
UID:6196
DTSTAMP:20260421T143321
DTSTART:20130620T000000
DTEND:20140620T000000
SUMMARY:L'alcalde presenta al Saló Internacional de la Logísitica l'Eix de la Riera de Caldes
LOCATION:
METHOD:PUBLISH
X-WR-CALNAME:llagosta@llagosta.cat
X-WR-TIMEZONE:Europe/Madrid
DESCRIPTION:L'alcalde del Llagosta, Alberto López, i l'alcaldessa de Santa Perpètua, Isabel García, van presentar ahir l'Eix de la Riera de Caldes al primer Congrés EU Core Net Cities, en el marc del Saló Internacional de la Logística, que se celebra a la Fira de Barcelona. 
URI:https://www.llagosta.cat/actualitat/noticies/lalcalde-presenta-al-salo-internacional-de-la-logisitica-leix-de-la-riera-de-caldes.html
CLASS:PUBLIC
END:VEVENT
END:VCALENDAR
