BEGIN:VCALENDAR
VERSION:2.0
CALSCALE:GREGORIAN
PRODID:-//Diputació de Barcelona//DibaCMS//EN
BEGIN:VEVENT
UID:6195
DTSTAMP:20260421T123121
DTSTART:20130620T000000
DTEND:20140621T000000
SUMMARY:Divendres finalitzen les votacions per escollir el cartell guanyador del concurs de Festa Major
LOCATION:
METHOD:PUBLISH
X-WR-CALNAME:llagosta@llagosta.cat
X-WR-TIMEZONE:Europe/Madrid
DESCRIPTION:Aquest divendres és el darrer dia per poder votar per escollir l'obra guanyadora del Concurs de cartells de la Festa Major 2013 de la Llagosta entre els tres dissenys finalistes. Les votacions es poden fer a l'Oficina d'Atenció a la Ciutadania i a través d'aquest web.
URI:https://www.llagosta.cat/actualitat/noticies/divendres-finalitzen-les-votacions-per-escollir-el-cartell-guanyador-del-concurs-de-festa-major.html
CLASS:PUBLIC
END:VEVENT
END:VCALENDAR
