BEGIN:VCALENDAR
VERSION:2.0
CALSCALE:GREGORIAN
PRODID:-//Diputació de Barcelona//DibaCMS//EN
BEGIN:VEVENT
UID:6193
DTSTAMP:20260421T140600
DTSTART:20130620T000000
DTEND:20140620T000000
SUMMARY:L'Ajuntament informa sobre dos línies d'ajut de la Generalitat per al lloguer i per a discapacitats
LOCATION:
METHOD:PUBLISH
X-WR-CALNAME:llagosta@llagosta.cat
X-WR-TIMEZONE:Europe/Madrid
DESCRIPTION:L'Ajuntament de la Llagosta informa que la Generalitat ha obert una nova línia d'ajuts al lloguer per atendre 11.000 famílies. Fins l'1 de juliol es poden sol·licitar els ajuts, que seran d'un màxim de 200 euros mensuals.
URI:https://www.llagosta.cat/actualitat/noticies/lajuntament-informa-sobre-dos-linies-dajut-de-la-generalitat-per-al-lloguer-i-per-a-discapacitats.html
CLASS:PUBLIC
END:VEVENT
END:VCALENDAR
