BEGIN:VCALENDAR
VERSION:2.0
CALSCALE:GREGORIAN
PRODID:-//Diputació de Barcelona//DibaCMS//EN
BEGIN:VEVENT
UID:6192
DTSTAMP:20260421T185303
DTSTART:20130620T000000
DTEND:20140620T000000
SUMMARY:Antonio García, satisfet amb la seva primera temporada al París Saint Germain
LOCATION:
METHOD:PUBLISH
X-WR-CALNAME:llagosta@llagosta.cat
X-WR-TIMEZONE:Europe/Madrid
DESCRIPTION:Antonio García Robledo ha fet un balanç positiu de la seva primera temporada al París Saint Germain, equip amb el qual ha guanyat aquest any la lliga francesa d'handbol. L'esportista llagostenc organitzarà a partir del 7 de juliol el tercer campus d'handbol que porta el seu nom.
URI:https://www.llagosta.cat/actualitat/noticies/antonio-garcia-satisfet-amb-la-seva-primera-temporada-al-paris-saint-germain.html
CLASS:PUBLIC
END:VEVENT
END:VCALENDAR
