BEGIN:VCALENDAR
VERSION:2.0
CALSCALE:GREGORIAN
PRODID:-//Diputació de Barcelona//DibaCMS//EN
BEGIN:VEVENT
UID:6191
DTSTAMP:20260423T075912
DTSTART:20130619T000000
DTEND:20140619T000000
SUMMARY:Ahir es van celebrar els Jocs Esportius Escolars amb la participació d'alumnes de 6è de Primària
LOCATION:
METHOD:PUBLISH
X-WR-CALNAME:llagosta@llagosta.cat
X-WR-TIMEZONE:Europe/Madrid
DESCRIPTION:Alumnes de sisè de Primària dels diferents centres educatius de la Llagosta van participar ahir en els Jocs Esportius Escolars, organitzats per la Regidoria d'Esports de l'Ajuntament de la nostra localitat. Durant el matí, els estudiants van practicar diverses modalitats esportives al Camp Municipal de Futbol Joan Gelabert i al Poliesportiu Riera Seca. En concret, els alumnes de sisè de Primària van participar en partits de bàsquet, handbol, hoquei herba i korfbal, entre d'altres.  
URI:https://www.llagosta.cat/actualitat/noticies/ahir-es-van-celebrar-els-jocs-esportius-escolars-amb-la-participacio-dalumnes-de-6e-de-primaria.html
CLASS:PUBLIC
END:VEVENT
END:VCALENDAR
