BEGIN:VCALENDAR
VERSION:2.0
CALSCALE:GREGORIAN
PRODID:-//Diputació de Barcelona//DibaCMS//EN
BEGIN:VEVENT
UID:6189
DTSTAMP:20260421T174256
DTSTART:20130619T000000
DTEND:20140619T000000
SUMMARY:El proper cap de setmana s'obrirà al públic la reformada plaça de la Concòrdia
LOCATION:
METHOD:PUBLISH
X-WR-CALNAME:llagosta@llagosta.cat
X-WR-TIMEZONE:Europe/Madrid
DESCRIPTION:Durant el proper cap de setmana, s'obrirà al públic l'espai reformat de la plaça de la Concòrdia. L'Ajuntament de la Llagosta considera pràcticament acabades les obres, tot i que un petit espai al costat del badalot de l'aparcament soterrani restarà sense pavimentar perquè s'està pendent que durant els propers dies la companyia Endesa faci unes connexions elèctriques abans que es puguin culminar els treballs de reurbanització d'aquest indret. 
URI:https://www.llagosta.cat/actualitat/noticies/el-proper-cap-de-setmana-sobrira-al-public-la-reformada-placa-de-la-concordia.html
CLASS:PUBLIC
END:VEVENT
END:VCALENDAR
