BEGIN:VCALENDAR
VERSION:2.0
CALSCALE:GREGORIAN
PRODID:-//Diputació de Barcelona//DibaCMS//EN
BEGIN:VEVENT
UID:6188
DTSTAMP:20260421T111025
DTSTART:20130619T000000
DTEND:20140619T000000
SUMMARY:La plaça de la Sardana acollirà demà un nou concert a la fresca a partir de les vuit del vespre
LOCATION:
METHOD:PUBLISH
X-WR-CALNAME:llagosta@llagosta.cat
X-WR-TIMEZONE:Europe/Madrid
DESCRIPTION:La Llagosta + Activa organitzarà demà dijous un nou concert a la fresca. El tercer recital de la programació Estiu 2013 estarà protagonitzat per Ocultas Intenciones.
En aquesta ocasió, el concert es farà a la plaça de la Sardana. 
URI:https://www.llagosta.cat/actualitat/noticies/la-placa-de-la-sardana-acollira-dema-un-nou-concert-a-la-fresca-a-partir-de-les-vuit-del-vespre.html
CLASS:PUBLIC
END:VEVENT
END:VCALENDAR
