BEGIN:VCALENDAR
VERSION:2.0
CALSCALE:GREGORIAN
PRODID:-//Diputació de Barcelona//DibaCMS//EN
BEGIN:VEVENT
UID:6187
DTSTAMP:20260421T204824
DTSTART:20130619T000000
DTEND:20140619T000000
SUMMARY:Demà, xerrada al Casal d'Avis sobre consells de seguretat per a la gent gran
LOCATION:
METHOD:PUBLISH
X-WR-CALNAME:llagosta@llagosta.cat
X-WR-TIMEZONE:Europe/Madrid
DESCRIPTION:L'Ajuntament de la Llagosta i els Mossos d'Esquadra organitzaran demà una xerrada informativa adreçada a la gent gran sobre consells de seguretat. La conferència es farà al Casal d'Avis i començarà a les cinc de la tarda.
URI:https://www.llagosta.cat/actualitat/noticies/dema-xerrada-al-casal-davis-sobre-consells-de-seguretat-per-a-la-gent-gran.html
CLASS:PUBLIC
END:VEVENT
END:VCALENDAR
