BEGIN:VCALENDAR
VERSION:2.0
CALSCALE:GREGORIAN
PRODID:-//Diputació de Barcelona//DibaCMS//EN
BEGIN:VEVENT
UID:6185
DTSTAMP:20260422T162200
DTSTART:20130618T000000
DTEND:20140618T000000
SUMMARY:L'Ajuntament perllonga el període per formar part de les dues noves colles de Festa Major
LOCATION:
METHOD:PUBLISH
X-WR-CALNAME:llagosta@llagosta.cat
X-WR-TIMEZONE:Europe/Madrid
DESCRIPTION:Els veïns de la Llagosta que vulguin formar part de les colles de Volats i Saltats durant la propera Festa Major encara tenen temps fins a la setmana que ve per inscriure's. L'Ajuntament ha decidit perllongar el període d'inscripció donada la forta demanda que s'ha registrat en els darrers dies. 
URI:https://www.llagosta.cat/actualitat/noticies/lajuntament-perllonga-el-periode-per-formar-part-de-les-dues-noves-colles-de-festa-major.html
CLASS:PUBLIC
END:VEVENT
END:VCALENDAR
