BEGIN:VCALENDAR
VERSION:2.0
CALSCALE:GREGORIAN
PRODID:-//Diputació de Barcelona//DibaCMS//EN
BEGIN:VEVENT
UID:6184
DTSTAMP:20260422T051842
DTSTART:20130618T000000
DTEND:20140618T000000
SUMMARY:La jornada de neteja del riu Besòs al seu pas per la Llagosta es farà el 4 de juliol
LOCATION:
METHOD:PUBLISH
X-WR-CALNAME:llagosta@llagosta.cat
X-WR-TIMEZONE:Europe/Madrid
DESCRIPTION:L'Ajuntament de la Llagosta organitzarà el 4 de juliol la jornada Fem dissabte! Neteja del riu Besòs que no es va poder celebrar el 8 de juny per la pluja. Les persones interessades s'han d'inscriure a l'Oficina d'Atenció a la Ciutadania. Els menors hauran d'anar acompanyats d'un adult.
URI:https://www.llagosta.cat/actualitat/noticies/la-jornada-de-neteja-del-riu-besos-al-seu-pas-per-la-llagosta-es-fara-el-4-de-juliol.html
CLASS:PUBLIC
END:VEVENT
END:VCALENDAR
