BEGIN:VCALENDAR
VERSION:2.0
CALSCALE:GREGORIAN
PRODID:-//Diputació de Barcelona//DibaCMS//EN
BEGIN:VEVENT
UID:6183
DTSTAMP:20260421T121814
DTSTART:20130618T000000
DTEND:20140618T000000
SUMMARY:El Viejas Glorias derrota la Planada (4-0) en el darrer partit i acaba la lliga en vuitena posició
LOCATION:
METHOD:PUBLISH
X-WR-CALNAME:llagosta@llagosta.cat
X-WR-TIMEZONE:Europe/Madrid
DESCRIPTION:El Club Deportivo Viejas Glorias va acabar dissabte la lliga amb una victòria contra la Planada per 4 a 0. Els llagostencs han estat finalment vuitens amb 50 punts, han guanyat quinze partits, n'han empatat cinc i n'han perdut catorze. El campió ha estat el Santa Perpètua.
URI:https://www.llagosta.cat/actualitat/noticies/el-viejas-glorias-derrota-la-planada-4-0-en-el-darrer-partit-i-acaba-la-lliga-en-vuitena-posicio.html
CLASS:PUBLIC
END:VEVENT
END:VCALENDAR
