BEGIN:VCALENDAR
VERSION:2.0
CALSCALE:GREGORIAN
PRODID:-//Diputació de Barcelona//DibaCMS//EN
BEGIN:VEVENT
UID:6182
DTSTAMP:20260421T121855
DTSTART:20130617T000000
DTEND:20140617T000000
SUMMARY:Ja està oberta la piscina d'estiu del Complex Esportiu Municipal el Turó
LOCATION:
METHOD:PUBLISH
X-WR-CALNAME:llagosta@llagosta.cat
X-WR-TIMEZONE:Europe/Madrid
DESCRIPTION:Avui ja s'ha obert al públic la piscina d'estiu del Complex Esportiu Municipal El Turó. La piscina exterior romandrà oberta fins el 8 de setembre. Aquest any s'han establert diverses modalitats d'abonaments.
URI:https://www.llagosta.cat/actualitat/noticies/ja-esta-oberta-la-piscina-destiu-del-complex-esportiu-municipal-el-turo.html
CLASS:PUBLIC
END:VEVENT
END:VCALENDAR
