BEGIN:VCALENDAR
VERSION:2.0
CALSCALE:GREGORIAN
PRODID:-//Diputació de Barcelona//DibaCMS//EN
BEGIN:VEVENT
UID:6181
DTSTAMP:20260422T123415
DTSTART:20130617T000000
DTEND:20140617T000000
SUMMARY:La segona Setmana del Teatre de la Llagosta acaba amb el Centre Cultural ple
LOCATION:
METHOD:PUBLISH
X-WR-CALNAME:llagosta@llagosta.cat
X-WR-TIMEZONE:Europe/Madrid
DESCRIPTION:La segona Setmana del Teatre de la Llagosta va finalitzar ahir amb el Centre Cultural ple de gom a gom durant la representació de l'obra La Llagosta, el poble, a càrrec dels grups de teatre de la nostra localitat. La peça, dirigida per Carme Vilar, Beti Español i Joan Monells, de la companyia Frec a Frec, era un recorregut emocionant per la història de la Llagosta. 
URI:https://www.llagosta.cat/actualitat/noticies/la-segona-setmana-del-teatre-de-la-llagosta-acaba-amb-el-centre-cultural-ple.html
CLASS:PUBLIC
END:VEVENT
END:VCALENDAR
