BEGIN:VCALENDAR
VERSION:2.0
CALSCALE:GREGORIAN
PRODID:-//Diputació de Barcelona//DibaCMS//EN
BEGIN:VEVENT
UID:6180
DTSTAMP:20260421T185416
DTSTART:20130617T000000
DTEND:20140617T000000
SUMMARY:Es presenta Dones amb Iniciativa de la Llagosta com un espai feminista autorganitzat 
LOCATION:
METHOD:PUBLISH
X-WR-CALNAME:llagosta@llagosta.cat
X-WR-TIMEZONE:Europe/Madrid
DESCRIPTION:La defensa dels drets de la dona i continuar treballant per la igualtat entre dones i homes són els principals objectius que es planteja Dones amb Iniciativa de la Llagosta. Divendres, es va fer a la seu local d'IC-Verds l'acte de presentació d'aquest nou col·lectiu, presidit per Ana Belén Cazorla.
URI:https://www.llagosta.cat/actualitat/noticies/es-presenta-dones-amb-iniciativa-de-la-llagosta-com-un-espai-feminista-autorganitzat-.html
CLASS:PUBLIC
END:VEVENT
END:VCALENDAR
